View In:
ArcMap
Google Earth
ArcGIS JavaScript
ArcGIS.com Map
View Footprint In:
Google Earth
Service Description:
Name: Alumnos/HaciendasVM
Description:
Extent:
XMin: -11069018.2501687
YMin: 2222496.84434801
XMax: -11010372.3575587
YMax: 2286482.13912101
Spatial Reference: 102100 (3857)
Pixel Size X: 87.5311830000007
Pixel Size Y: 87.5311829999998
Band Count: 3
Pixel Type: U16
Min Pixel Size: 0
Maximum Pixel Size: 0
Copyright Text:
Service Data Type: esriImageServiceDataTypeGeneric
Min Values: 33, 32, 37
Max Values: 255, 255, 255
Mean Values: 231.60378982542, 231.46558385941, 232.46833740443
Standard Deviation Values: 44.446967823785, 44.62463158569, 43.223228080486
Object ID Field:
Fields:
Supported Interfaces:
REST
SOAP
WCS
Supported Operations:
Export Image
Identify