View In:
ArcMap
Google Earth
ArcGIS JavaScript
ArcGIS.com Map
View Footprint In:
Google Earth
Service Description:
Name: Alumnos/LineasTrans1919
Description:
Extent:
XMin: 2223948.94856244
YMin: 881379.140183654
XMax: 2463745.55214144
YMax: 1044973.81733365
Spatial Reference: PROJCS["Rep_Mex_MHA",GEOGCS["GCS_North_American_1927",DATUM["D_North_American_1927",SPHEROID["Clarke_1866",6378206.4,294.9786982]],PRIMEM["Greenwich",0.0],UNIT["Degree",0.0174532925199433]],PROJECTION["Lambert_Conformal_Conic"],PARAMETER["False_Easting",2500000.0],PARAMETER["False_Northing",0.0],PARAMETER["Central_Meridian",-102.0],PARAMETER["Standard_Parallel_1",17.5],PARAMETER["Standard_Parallel_2",29.5],PARAMETER["Scale_Factor",1.0],PARAMETER["Latitude_Of_Origin",12.0],UNIT["Meter",1.0]]
Pixel Size X: 47.418747
Pixel Size Y: 47.418747
Band Count: 3
Pixel Type: U16
Min Pixel Size: 0
Maximum Pixel Size: 0
Copyright Text:
Service Data Type: esriImageServiceDataTypeGeneric
Min Values: 0, 0, 0
Max Values: 255, 255, 255
Mean Values: 46.72280073594, 54.076294167881, 124.17301262088
Standard Deviation Values: 43.608224220724, 42.445784933217, 46.601952495929
Object ID Field:
Fields:
Supported Interfaces:
REST
SOAP
WMS
Supported Operations:
Export Image
Identify