View In:
ArcMap
Google Earth
ArcGIS JavaScript
ArcGIS.com Map
View Footprint In:
Google Earth
Service Description:
Name: Amortizacion/ChubitaroHuetam
Description:
Extent:
XMin: -100.787251943313
YMin: 18.3439899178098
XMax: -100.610893943313
YMax: 18.5477859178098
Spatial Reference: 4326
Pixel Size X: 0.000101999999999996
Pixel Size Y: 0.000102
Band Count: 3
Pixel Type: U16
Min Pixel Size: 0
Maximum Pixel Size: 0
Copyright Text:
Service Data Type: esriImageServiceDataTypeGeneric
Min Values: 18, 15, 18
Max Values: 186, 161, 143
Mean Values: 162.24396704699, 131.56730456371, 118.88177058127
Standard Deviation Values: 22.962204788032, 20.806109091184, 17.727696013673
Object ID Field:
Fields:
Supported Interfaces:
REST
SOAP
Supported Operations:
Export Image
Identify