View In:
ArcMap
Google Earth
ArcGIS JavaScript
ArcGIS.com Map
View Footprint In:
Google Earth
Service Description:
Name: Amortizacion/Purechucho
Description:
Extent:
XMin: -101.037692684318
YMin: 18.3199007730928
XMax: -100.702732684318
YMax: 18.6758207730928
Spatial Reference: 4326
Pixel Size X: 7.99999999999989E-05
Pixel Size Y: 8.00000000000003E-05
Band Count: 3
Pixel Type: U16
Min Pixel Size: 0
Maximum Pixel Size: 0
Copyright Text:
Service Data Type: esriImageServiceDataTypeGeneric
Min Values: 4, 8, 6
Max Values: 186, 169, 174
Mean Values: 152.81218092584, 117.93460148474, 93.836916412851
Standard Deviation Values: 36.238135248397, 29.476384651661, 22.480746263163
Object ID Field:
Fields:
Supported Interfaces:
REST
SOAP
Supported Operations:
Export Image
Identify