View In:
ArcMap
Google Earth
ArcGIS JavaScript
ArcGIS.com Map
View Footprint In:
Google Earth
Service Description:
Name: Amortizacion/Tlapehuala
Description:
Extent:
XMin: -11205039.6466885
YMin: 2057747.91063966
XMax: -11181919.6658085
YMax: 2078243.20516566
Spatial Reference: 102100 (3857)
Pixel Size X: 4.73770099999994
Pixel Size Y: 4.73770100000001
Band Count: 3
Pixel Type: U16
Min Pixel Size: 0
Maximum Pixel Size: 0
Copyright Text:
Service Data Type: esriImageServiceDataTypeGeneric
Min Values: 16, 9, 6
Max Values: 196, 187, 192
Mean Values: 154.25306232655, 113.04809115757, 94.025873165421
Standard Deviation Values: 15.132987072473, 13.441541317287, 11.960086844502
Object ID Field:
Fields:
Supported Interfaces:
REST
SOAP
Supported Operations:
Export Image
Identify