View In:
ArcMap
Google Earth
ArcGIS JavaScript
ArcGIS.com Map
View Footprint In:
Google Earth
Service Description:
Name: Amortizacion/ValleHuetamo
Description:
Extent:
XMin: -101.143336171445
YMin: 18.419164249062
XMax: -100.644016171445
YMax: 18.733804249062
Spatial Reference: 4326
Pixel Size X: 7.19999999999996E-05
Pixel Size Y: 7.20000000000002E-05
Band Count: 3
Pixel Type: U16
Min Pixel Size: 0
Maximum Pixel Size: 0
Copyright Text:
Service Data Type: esriImageServiceDataTypeGeneric
Min Values: 1, 5, 2
Max Values: 200, 194, 194
Mean Values: 150.89790818117, 121.98528775696, 109.14657216872
Standard Deviation Values: 40.184782405955, 34.437348449489, 30.065724972536
Object ID Field:
Fields:
Supported Interfaces:
REST
SOAP
Supported Operations:
Export Image
Identify