View In:
ArcMap
Google Earth
ArcGIS JavaScript
ArcGIS.com Map
View Footprint In:
Google Earth
Service Description:
Name: mlobo/38fondoASCaj-2-796Exp39-1271
Description:
Extent:
XMin: 1959089.28862771
YMin: 2265560.27706864
XMax: 2041015.85373571
YMax: 2348662.99744064
Spatial Reference: PROJCS["WGS_84_UTM_zone_11N",GEOGCS["GCS_WGS_1984",DATUM["D_WGS_1984",SPHEROID["WGS_1984",6378137.0,298.257223563]],PRIMEM["Greenwich",0.0],UNIT["Degree",0.0174532925199433]],PROJECTION["Transverse_Mercator"],PARAMETER["false_easting",500000.0],PARAMETER["false_northing",0.0],PARAMETER["central_meridian",-117.0],PARAMETER["scale_factor",0.9996],PARAMETER["latitude_of_origin",0.0],UNIT["Meter",1.0]]
Pixel Size X: 36.754852
Pixel Size Y: 36.7548519999999
Band Count: 3
Pixel Type: U8
Min Pixel Size: 0
Maximum Pixel Size: 0
Copyright Text:
Service Data Type: esriImageServiceDataTypeRGB
Min Values: 0, 0, 0
Max Values: 255, 239, 238
Mean Values: 90.112789098072, 74.495172893837, 80.589745680804
Standard Deviation Values: 101.30106050161, 85.686214844401, 90.786516264828
Object ID Field:
Fields:
Supported Interfaces:
REST
SOAP
WMS
Supported Operations:
Export Image
Identify