View In:
ArcMap
Google Earth
ArcGIS JavaScript
ArcGIS.com Map
View Footprint In:
Google Earth
Service Description:
Name: mlobo/AS_4449_58707_F21
Description:
Extent:
XMin: -11552683.5367764
YMin: 2906687.91205829
XMax: -11429481.9423104
YMax: 3055136.11954429
Spatial Reference: 102100 (3857)
Pixel Size X: 9.38535800000006
Pixel Size Y: 9.38535799999999
Band Count: 3
Pixel Type: U16
Min Pixel Size: 0
Maximum Pixel Size: 0
Copyright Text:
Service Data Type: esriImageServiceDataTypeGeneric
Min Values: 0, 0, 0
Max Values: 255, 255, 255
Mean Values: 188.374374138, 185.9548904257, 182.6831267598
Standard Deviation Values: 45.0574772304, 47.3394814425, 49.8262619665
Object ID Field:
Fields:
Supported Interfaces:
REST
SOAP
WCS
Supported Operations:
Export Image
Identify