View In:
ArcMap
Google Earth
ArcGIS JavaScript
ArcGIS.com Map
View Footprint In:
Google Earth
Service Description:
Name: mlobo/AgostaderoSanLore
Description:
Extent:
XMin: -11547137.0209883
YMin: 2900746.58534234
XMax: -11356956.6330623
YMax: 3084312.46339334
Spatial Reference: 102100 (3857)
Pixel Size X: 52.9160789999998
Pixel Size Y: 52.9160790000001
Band Count: 3
Pixel Type: U16
Min Pixel Size: 0
Maximum Pixel Size: 0
Copyright Text:
Service Data Type: esriImageServiceDataTypeGeneric
Min Values: 0, 0, 0
Max Values: 255, 255, 161
Mean Values: 215.5397711467, 173.3528791869, 86.7056343691
Standard Deviation Values: 71.7858220427, 60.1403634132, 30.8895054565
Object ID Field:
Fields:
Supported Interfaces:
REST
SOAP
WMS
Supported Operations:
Export Image
Identify