View In:
ArcMap
Google Earth
ArcGIS JavaScript
ArcGIS.com Map
View Footprint In:
Google Earth
Service Description:
Name: mlobo/AgostaderosSLorenzo
Description:
Extent:
XMin: -11570335.4386957
YMin: 2895898.56354173
XMax: -11446670.1255907
YMax: 3079235.48423273
Spatial Reference: 102100 (3857)
Pixel Size X: 19.040079
Pixel Size Y: 19.040079
Band Count: 3
Pixel Type: U16
Min Pixel Size: 0
Maximum Pixel Size: 0
Copyright Text:
Service Data Type: esriImageServiceDataTypeGeneric
Min Values: 0, 0, 0
Max Values: 255, 255, 254
Mean Values: 184.6884098878, 131.8174184363, 66.0221870053
Standard Deviation Values: 69.4586864958, 53.2414887065, 36.8676103586
Object ID Field:
Fields:
Supported Interfaces:
REST
SOAP
WCS
Supported Operations:
Export Image
Identify