View In:
ArcMap
Google Earth
ArcGIS JavaScript
ArcGIS.com Map
View Footprint In:
Google Earth
Service Description:
Name: mlobo/CatastroLeon
Description:
Extent:
XMin: -11343160.3908205
YMin: 2357707.20823456
XMax: -11284444.8962005
YMax: 2434679.24803456
Spatial Reference: 102100 (3857)
Pixel Size X: 13.8938699999998
Pixel Size Y: 13.89387
Band Count: 3
Pixel Type: U16
Min Pixel Size: 0
Maximum Pixel Size: 0
Copyright Text:
Service Data Type: esriImageServiceDataTypeGeneric
Min Values: 28, 30, 0
Max Values: 255, 255, 254
Mean Values: 205.8292923878, 205.69684598172, 150.69917210651
Standard Deviation Values: 39.206220782612, 39.253231059937, 39.533869901468
Object ID Field:
Fields:
Supported Interfaces:
REST
SOAP
Supported Operations:
Export Image
Identify