View In:
ArcMap
Google Earth
ArcGIS JavaScript
ArcGIS.com Map
View Footprint In:
Google Earth
Service Description:
Name: mlobo/ComInspecRNazas
Description:
Extent:
XMin: -11551785.509484
YMin: 2913314.97419768
XMax: -11446972.785072
YMax: 3002168.55950168
Spatial Reference: 102100 (3857)
Pixel Size X: 19.605822
Pixel Size Y: 19.605822
Band Count: 3
Pixel Type: U16
Min Pixel Size: 0
Maximum Pixel Size: 0
Copyright Text:
Service Data Type: esriImageServiceDataTypeGeneric
Min Values:
Max Values:
Mean Values:
Standard Deviation Values:
Object ID Field:
Fields:
Supported Interfaces:
REST
SOAP
WCS
Supported Operations:
Export Image
Identify