View In:
ArcMap
Google Earth
ArcGIS JavaScript
ArcGIS.com Map
View Footprint In:
Google Earth
Service Description:
Name: mlobo/HacSFerLareDur
Description:
Extent:
XMin: -11552195.1709634
YMin: 2932677.19018757
XMax: -11513601.5623274
YMax: 2974414.50950757
Spatial Reference: 102100 (3857)
Pixel Size X: 10.7293879999998
Pixel Size Y: 10.7293879999999
Band Count: 3
Pixel Type: U16
Min Pixel Size: 0
Maximum Pixel Size: 0
Copyright Text:
Service Data Type: esriImageServiceDataTypeGeneric
Min Values: 9, 7, 1
Max Values: 255, 255, 255
Mean Values: 184.7898542026, 179.7814597834, 171.3382656183
Standard Deviation Values: 23.3919078119, 24.373189334, 25.9736130694
Object ID Field:
Fields:
Supported Interfaces:
REST
SOAP
WCS
Supported Operations:
Export Image
Identify