View In:
ArcMap
Google Earth
ArcGIS JavaScript
ArcGIS.com Map
View Footprint In:
Google Earth
Service Description:
Name: mlobo/HadElCarmen
Description:
Extent:
XMin: -102.434604793569
YMin: 20.3613395309671
XMax: -102.379736793569
YMax: 20.4308525309671
Spatial Reference: 4326
Pixel Size X: 2.89999999999995E-05
Pixel Size Y: 2.90000000000003E-05
Band Count: 3
Pixel Type: U16
Min Pixel Size: 0
Maximum Pixel Size: 0
Copyright Text:
Service Data Type: esriImageServiceDataTypeGeneric
Min Values: 3, 0, 0
Max Values: 255, 255, 255
Mean Values: 105.8844813586, 106.0632411961, 107.5627803654
Standard Deviation Values: 38.0958746549, 35.4425594993, 26.4448364254
Object ID Field:
Fields:
Supported Interfaces:
REST
SOAP
WMS
Supported Operations:
Export Image
Identify