View In:
ArcMap
Google Earth
ArcGIS JavaScript
ArcGIS.com Map
View Footprint In:
Google Earth
Service Description:
Name: mlobo/HadPuruandiro
Description:
Extent:
XMin: -101.729289080039
YMin: 19.8278194836461
XMax: -101.610758080039
YMax: 19.9367924836461
Spatial Reference: 4326
Pixel Size X: 5.90000000000022E-05
Pixel Size Y: 5.89999999999994E-05
Band Count: 3
Pixel Type: U16
Min Pixel Size: 0
Maximum Pixel Size: 0
Copyright Text:
Service Data Type: esriImageServiceDataTypeGeneric
Min Values: 27, 26, 11
Max Values: 216, 200, 202
Mean Values: 162.7559904985, 154.5667930356, 143.1708294525
Standard Deviation Values: 16.7770459177, 19.7054462541, 34.8182205484
Object ID Field:
Fields:
Supported Interfaces:
REST
SOAP
WMS
WCS
Supported Operations:
Export Image
Identify