View In:
ArcMap
Google Earth
ArcGIS JavaScript
ArcGIS.com Map
View Footprint In:
Google Earth
Service Description:
Name: mlobo/HdaSanAntonio
Description:
Extent:
XMin: -11406253.5204428
YMin: 2311481.62317613
XMax: -11395940.5853528
YMax: 2319818.94780913
Spatial Reference: 102100 (3857)
Pixel Size X: 4.14174099999992
Pixel Size Y: 4.14174099999998
Band Count: 3
Pixel Type: U16
Min Pixel Size: 0
Maximum Pixel Size: 0
Copyright Text:
Service Data Type: esriImageServiceDataTypeGeneric
Min Values: 20, 27, 15
Max Values: 205, 218, 255
Mean Values: 150.3472032934, 151.2123748918, 151.879267056
Standard Deviation Values: 18.4846842761, 22.0246646513, 29.5623317148
Object ID Field:
Fields:
Supported Interfaces:
REST
SOAP
WMS
Supported Operations:
Export Image
Identify