View In:
ArcMap
Google Earth
ArcGIS.com Map
View Footprint In:
Google Earth
Service Description:
Name: mlobo/ManuelPlana
Description:
Extent:
XMin: -11556281.7147139
YMin: 2862944.55785571
XMax: -11431085.6254929
YMax: 3050025.47996071
Spatial Reference: 102100 (3857)
Pixel Size X: 109.724881000001
Pixel Size Y: 109.724881
Band Count: 3
Pixel Type: U32
Min Pixel Size: 0
Maximum Pixel Size: 0
Copyright Text:
Service Data Type: esriImageServiceDataTypeGeneric
Min Values: 0, 0, 0
Max Values: 65535, 65535, 65535
Mean Values: 58593.42392547, 57376.783045128, 51517.309535943
Standard Deviation Values: 9685.6123611961, 9591.9923274578, 8759.1189416726
Object ID Field:
Fields:
Supported Interfaces:
REST
SOAP
Supported Operations:
Export Image
Identify