View In:
ArcMap
Google Earth
ArcGIS JavaScript
ArcGIS.com Map
View Footprint In:
Google Earth
Service Description:
Name: mlobo/Patera
Description:
Extent:
XMin: -11337158.658612
YMin: 2233939.4857078
XMax: -11287142.258562
YMax: 2282783.0874118
Spatial Reference:
Pixel Size X: 11.4980229999999
Pixel Size Y: 11.498023
Band Count: 3
Pixel Type: U16
Min Pixel Size: 0
Maximum Pixel Size: 0
Copyright Text:
Service Data Type: esriImageServiceDataTypeGeneric
Min Values: 0, 1, 1
Max Values: 252, 255, 255
Mean Values: 115.29749936461, 118.90329571191, 100.59056586512
Standard Deviation Values: 24.993142881274, 22.650047297649, 17.912442829136
Object ID Field:
Fields:
Supported Interfaces:
REST
SOAP
Supported Operations:
Export Image
Identify