View In:
ArcMap
Google Earth
ArcGIS JavaScript
ArcGIS.com Map
View Footprint In:
Google Earth
Service Description:
Name: mlobo/RanchoCharcos
Description:
Extent:
XMin: -11405980.3396957
YMin: 2295450.66646377
XMax: -11392273.3188057
YMax: 2314795.03116877
Spatial Reference: 102100 (3857)
Pixel Size X: 4.57205499999978
Pixel Size Y: 4.57205500000002
Band Count: 3
Pixel Type: U16
Min Pixel Size: 0
Maximum Pixel Size: 0
Copyright Text:
Service Data Type: esriImageServiceDataTypeGeneric
Min Values: 1, 0, 0
Max Values: 213, 197, 191
Mean Values: 130.1083896114, 126.82044913035, 104.15789255655
Standard Deviation Values: 23.964015987819, 18.712942292005, 26.681986599193
Object ID Field:
Fields:
Supported Interfaces:
REST
SOAP
Supported Operations:
Export Image
Identify